BEGIN:VCALENDAR
VERSION:2.0
PRODID:-//ZContent.net//ZapCalLib 1.0//EN
CALSCALE:GREGORIAN
METHOD:PUBLISH
BEGIN:VEVENT
SUMMARY:Mobilnost i mi | organizator Centar za životnu sredinu
DTSTART:20220916T190000
DTEND:20220921T210000
UID:2026-04-22-00-06-50-0-@calendar.boell.de
DTSTAMP:20260421T220650
DESCRIPTION:Banja Luka – 
END:VEVENT
END:VCALENDAR
