BEGIN:VCALENDAR
VERSION:2.0
PRODID:-//ZContent.net//ZapCalLib 1.0//EN
CALSCALE:GREGORIAN
METHOD:PUBLISH
BEGIN:VEVENT
SUMMARY:7. History Fest
DTSTART:20230606T183000
DTEND:20230609T220000
UID:2026-04-22-22-55-18-0-@calendar.boell.de
DTSTAMP:20260422T205518
DESCRIPTION:▶ Siehe Veranstaltungsbeschreibung – 
END:VEVENT
END:VCALENDAR
