BEGIN:VCALENDAR
VERSION:2.0
PRODID:-//ZContent.net//ZapCalLib 1.0//EN
CALSCALE:GREGORIAN
METHOD:PUBLISH
BEGIN:VEVENT
SUMMARY:Zelena ljetna škola 2023 
DTSTART:20230907T180000
DTEND:20230910T140000
UID:2026-04-21-13-10-38-0-@calendar.boell.de
DTSTAMP:20260421T111038
DESCRIPTION:▶ Siehe Veranstaltungsbeschreibung – Heinrich-Böll-Stiftun
 g Sarajevo - Bosnien und Herzegowina\, Albanien\, Nordmazedonien
END:VEVENT
END:VCALENDAR
