BEGIN:VCALENDAR
VERSION:2.0
PRODID:-//ZContent.net//ZapCalLib 1.0//EN
CALSCALE:GREGORIAN
METHOD:PUBLISH
BEGIN:VEVENT
SUMMARY:Open Data Expo Climate 2.0.2.0 
DTSTART:20200302T080000
DTEND:20200302T190000
UID:2026-04-22-00-06-42-0-@calendar.boell.de
DTSTAMP:20260421T220642
DESCRIPTION:▶ Siehe Veranstaltungsbeschreibung – Prag – Externe Veran
 staltung
END:VEVENT
END:VCALENDAR
