BEGIN:VCALENDAR
VERSION:2.0
PRODID:-//ZContent.net//ZapCalLib 1.0//EN
CALSCALE:GREGORIAN
METHOD:PUBLISH
BEGIN:VEVENT
SUMMARY:The German Presidency of the Council of the European Union 2020:  |
  “Awakening for Europe” in Times of Crisis
DTSTART:20200528T130000
DTEND:20200528T180000
UID:2026-04-21-22-27-26-0-@calendar.boell.de
DTSTAMP:20260421T202726
DESCRIPTION:▶ Online-Veranstaltung – 
END:VEVENT
END:VCALENDAR
