BEGIN:VCALENDAR
VERSION:2.0
PRODID:-//ZContent.net//ZapCalLib 1.0//EN
CALSCALE:GREGORIAN
METHOD:PUBLISH
BEGIN:VEVENT
SUMMARY:Exkurze po vÃ­deÅˆskÃ½ch re-use centrech | PÅ™ihlÃ¡Å¡enÃ­ do 5. kvÄ
 ›tna
DTSTART:20220523T000000
DTEND:20220525T000000
UID:2026-04-20-04-11-15-0-@calendar.boell.de
DTSTAMP:20260420T021115
DESCRIPTION:â–¶ Siehe Veranstaltungsbeschreibung â€“ Wien â€“ Heinrich-BÃ¶l
 l-Stiftung Prag - Tschechische Republik\, Slowakei\, Ungarn
END:VEVENT
END:VCALENDAR
