BEGIN:VCALENDAR
VERSION:2.0
PRODID:-//ZContent.net//ZapCalLib 1.0//EN
CALSCALE:GREGORIAN
METHOD:PUBLISH
BEGIN:VEVENT
SUMMARY:Intersectional Discrimination experiences of Roma refugees from Ukr
 aine in Hungary | Research report launch and panel discussion
DTSTART:20230921T173000
DTEND:20230921T193000
UID:2026-04-21-11-34-56-0-@calendar.boell.de
DTSTAMP:20260421T093456
DESCRIPTION:▶ Siehe Veranstaltungsbeschreibung – 
END:VEVENT
END:VCALENDAR
