BEGIN:VCALENDAR
VERSION:2.0
PRODID:-//ZContent.net//ZapCalLib 1.0//EN
CALSCALE:GREGORIAN
METHOD:PUBLISH
BEGIN:VEVENT
SUMMARY:3 tváře spravedlivé tranzice | Konference
DTSTART:20241113T090000
DTEND:20241113T170000
UID:2026-04-21-15-22-59-0-@calendar.boell.de
DTSTAMP:20260421T132259
DESCRIPTION:▶ Siehe Veranstaltungsbeschreibung – Heinrich-Böll-Stiftun
 g Prag - Tschechische Republik\, Slowakei\, Ungarn
END:VEVENT
END:VCALENDAR
