BEGIN:VCALENDAR
VERSION:2.0
PRODID:-//ZContent.net//ZapCalLib 1.0//EN
CALSCALE:GREGORIAN
METHOD:PUBLISH
BEGIN:VEVENT
SUMMARY:Večerní škola politické ekonomie | On-line kurz + celodenní os
 obní setkání
DTSTART:20251014T193000
DTEND:20251122T000000
UID:2026-04-21-11-35-02-0-@calendar.boell.de
DTSTAMP:20260421T093502
DESCRIPTION:▶ Siehe Veranstaltungsbeschreibung – Heinrich-Böll-Stiftun
 g Prag - Tschechische Republik\, Slowakei\, Ungarn
END:VEVENT
END:VCALENDAR
