BEGIN:VCALENDAR
VERSION:2.0
PRODID:-//ZContent.net//ZapCalLib 1.0//EN
CALSCALE:GREGORIAN
METHOD:PUBLISH
BEGIN:VEVENT
SUMMARY:Call for Applications - International Summer school | Feminist Futu
 res for Foreign Policy
DTSTART:20260531T235900
DTEND:20260531T235900
UID:2026-04-19-23-49-45-0-@calendar.boell.de
DTSTAMP:20260419T214945
DESCRIPTION:▶ Siehe Veranstaltungsbeschreibung – Prag – Heinrich-Böl
 l-Stiftung Prag - Tschechische Republik\, Slowakei\, Ungarn
END:VEVENT
END:VCALENDAR
