BEGIN:VCALENDAR
VERSION:2.0
PRODID:-//ZContent.net//ZapCalLib 1.0//EN
CALSCALE:GREGORIAN
METHOD:PUBLISH
BEGIN:VEVENT
SUMMARY:Was will der nette Nazi von nebenan? - Der neue Rechtsextremismus  
 | Vortrag mit Andreas Speit
DTSTART:20110217T180000
DTEND:20110217T210000
UID:2026-04-21-23-40-33-0-@calendar.boell.de
DTSTAMP:20260421T214033
DESCRIPTION:Landesstiftung Brandenburg
END:VEVENT
END:VCALENDAR
