BEGIN:VCALENDAR
VERSION:2.0
PRODID:-//ZContent.net//ZapCalLib 1.0//EN
CALSCALE:GREGORIAN
METHOD:PUBLISH
BEGIN:VEVENT
SUMMARY:FÄLLT AUS | Europäische Umwelthauptstadt 2011
DTSTART:20110620T093000
DTEND:20110624T160000
UID:2026-04-21-20-00-01-0-@calendar.boell.de
DTSTAMP:20260421T180001
DESCRIPTION:Landesstiftung Hamburg
END:VEVENT
END:VCALENDAR
