BEGIN:VCALENDAR
VERSION:2.0
PRODID:-//ZContent.net//ZapCalLib 1.0//EN
CALSCALE:GREGORIAN
METHOD:PUBLISH
BEGIN:VEVENT
SUMMARY:Wohin Iran? - Zwischen innenpolitischer Lähmung und außenpolitisc
 her Großmannssucht | Podiumsdiskussion und Film
DTSTART:20101208T183000
DTEND:20101208T213000
UID:2026-04-24-09-42-15-0-@calendar.boell.de
DTSTAMP:20260424T074215
DESCRIPTION:Heinrich-Böll-Stiftung - Bundesstiftung Berlin
END:VEVENT
END:VCALENDAR
