BEGIN:VCALENDAR
VERSION:2.0
PRODID:-//ZContent.net//ZapCalLib 1.0//EN
CALSCALE:GREGORIAN
METHOD:PUBLISH
BEGIN:VEVENT
SUMMARY:Öffentlichkeitsarbeit im Internet
DTSTART:20110212T180000
DTEND:20110213T180000
UID:2026-04-21-23-53-48-0-@calendar.boell.de
DTSTAMP:20260421T215348
DESCRIPTION:Landesstiftung Nordrhein-Westfalen
END:VEVENT
END:VCALENDAR
