BEGIN:VCALENDAR
VERSION:2.0
PRODID:-//ZContent.net//ZapCalLib 1.0//EN
CALSCALE:GREGORIAN
METHOD:PUBLISH
BEGIN:VEVENT
SUMMARY:Ihr Auftritt bitte | Mit Stimme und Körpersprache überzeugen
DTSTART:20110211T180000
DTEND:20110212T180000
UID:2026-04-20-12-15-53-0-@calendar.boell.de
DTSTAMP:20260420T101553
DESCRIPTION:Landesstiftung Nordrhein-Westfalen
END:VEVENT
END:VCALENDAR
