BEGIN:VCALENDAR
VERSION:2.0
PRODID:-//ZContent.net//ZapCalLib 1.0//EN
CALSCALE:GREGORIAN
METHOD:PUBLISH
BEGIN:VEVENT
SUMMARY:«Volkszählung» 2011 | veranstaltet von `Rosa Luxemburg Stiftung`
DTSTART:20101027T190000
DTEND:20101027T210000
UID:2026-04-24-03-25-11-0-@calendar.boell.de
DTSTAMP:20260424T012511
DESCRIPTION:
END:VEVENT
END:VCALENDAR
