BEGIN:VCALENDAR
VERSION:2.0
PRODID:-//ZContent.net//ZapCalLib 1.0//EN
CALSCALE:GREGORIAN
METHOD:PUBLISH
BEGIN:VEVENT
SUMMARY:Heimatperspektiven | Jump Cuts- Migration im Film
DTSTART:20100625T193000
DTEND:20100625T220000
UID:2026-04-21-20-00-09-0-@calendar.boell.de
DTSTAMP:20260421T180009
DESCRIPTION:Landesstiftung Sachsen (Weiterdenken)
END:VEVENT
END:VCALENDAR
