BEGIN:VCALENDAR
VERSION:2.0
PRODID:-//ZContent.net//ZapCalLib 1.0//EN
CALSCALE:GREGORIAN
METHOD:PUBLISH
BEGIN:VEVENT
SUMMARY:FIT FOR POLITICS | Konfliktmanagement | SEMINAR VII
DTSTART:20101106T100000
DTEND:20101107T140000
UID:2026-04-21-15-48-31-0-@calendar.boell.de
DTSTAMP:20260421T134831
DESCRIPTION:Stiftung Leben & Umwelt / Heinrich-Böll-Stiftung Niedersachsen
END:VEVENT
END:VCALENDAR
