BEGIN:VCALENDAR
VERSION:2.0
PRODID:-//ZContent.net//ZapCalLib 1.0//EN
CALSCALE:GREGORIAN
METHOD:PUBLISH
BEGIN:VEVENT
SUMMARY:FIT FOR POLITICS | Zeit- und Selbstmanagement | SEMINAR III
DTSTART:20100508T100000
DTEND:20100509T140000
UID:2026-04-24-02-47-47-0-@calendar.boell.de
DTSTAMP:20260424T004747
DESCRIPTION:Stiftung Leben & Umwelt / Heinrich-Böll-Stiftung Niedersachsen
END:VEVENT
END:VCALENDAR
