BEGIN:VCALENDAR
VERSION:2.0
PRODID:-//ZContent.net//ZapCalLib 1.0//EN
CALSCALE:GREGORIAN
METHOD:PUBLISH
BEGIN:VEVENT
SUMMARY:`Ins Rampenlicht, ans Mikrophon!` | Interview- und Moderationstechn
 iken
DTSTART:20100625T180000
DTEND:20100626T180000
UID:2026-04-21-19-14-04-0-@calendar.boell.de
DTSTAMP:20260421T171404
DESCRIPTION:Landesstiftung Nordrhein-Westfalen
END:VEVENT
END:VCALENDAR
