BEGIN:VCALENDAR
VERSION:2.0
PRODID:-//ZContent.net//ZapCalLib 1.0//EN
CALSCALE:GREGORIAN
METHOD:PUBLISH
BEGIN:VEVENT
SUMMARY:`Ihr Auftritt, bitte!` | Mit Stimme und Körpersprache überzeugen
DTSTART:20100910T180000
DTEND:20100911T180000
UID:2026-04-24-03-24-57-0-@calendar.boell.de
DTSTAMP:20260424T012457
DESCRIPTION:Landesstiftung Nordrhein-Westfalen
END:VEVENT
END:VCALENDAR
