BEGIN:VCALENDAR
VERSION:2.0
PRODID:-//ZContent.net//ZapCalLib 1.0//EN
CALSCALE:GREGORIAN
METHOD:PUBLISH
BEGIN:VEVENT
SUMMARY:Die neoliberale Umgestaltung der Hochschule am Beispielvon Bertelsm
 ann â€“ Kritik, Perspektiven, Handlungsfelder | Projekt Alternative DenkrĂ
 ¤ume | Ringvorlesung WS 2008/09
DTSTART:20081127T181500
DTEND:20081127T194500
UID:2026-04-23-20-59-16-0-@calendar.boell.de
DTSTAMP:20260423T185916
DESCRIPTION:Externe Veranstaltung
END:VEVENT
END:VCALENDAR
