BEGIN:VCALENDAR
VERSION:2.0
PRODID:-//ZContent.net//ZapCalLib 1.0//EN
CALSCALE:GREGORIAN
METHOD:PUBLISH
BEGIN:VEVENT
SUMMARY:Gender Mainstreaming im Städtebau: Chancen und Grenzen der neuen G
 leichstellungsstrategie in der kommunalen Praxis, Berlin | 2. Dialog der R
 eihe: Difu-Dialoge zur Zukunft der Städte
DTSTART:20061108T170000
DTEND:20061108T190000
UID:2026-04-26-05-22-03-0-@calendar.boell.de
DTSTAMP:20260426T032203
DESCRIPTION:
END:VEVENT
END:VCALENDAR
