BEGIN:VCALENDAR
VERSION:2.0
PRODID:-//ZContent.net//ZapCalLib 1.0//EN
CALSCALE:GREGORIAN
METHOD:PUBLISH
BEGIN:VEVENT
SUMMARY:Berlin: Die Rolle des Völkerrechts und der Vereinten Nationen in e
 iner globalisierten Welt | 5. Außenpolitische Jahrestagung 
DTSTART:20040624T180000
DTEND:20040625T180000
UID:2026-04-26-06-15-31-0-@calendar.boell.de
DTSTAMP:20260426T041531
DESCRIPTION:Heinrich-Böll-Stiftung - Bundesstiftung Berlin
END:VEVENT
END:VCALENDAR
