BEGIN:VCALENDAR
VERSION:2.0
PRODID:-//ZContent.net//ZapCalLib 1.0//EN
CALSCALE:GREGORIAN
METHOD:PUBLISH
BEGIN:VEVENT
SUMMARY:Leitkultur Wettbewerbsfähigkeit?  | Austeritätspolitik, Innovatio
 nen und die soziale Seite Europas
DTSTART:20130514T190000
DTEND:20130514T203000
UID:2026-04-24-05-17-24-0-@calendar.boell.de
DTSTAMP:20260424T031724
DESCRIPTION:Heinrich-Böll-Stiftung - Bundesstiftung Berlin
END:VEVENT
END:VCALENDAR
