BEGIN:VCALENDAR
VERSION:2.0
PRODID:-//ZContent.net//ZapCalLib 1.0//EN
CALSCALE:GREGORIAN
METHOD:PUBLISH
BEGIN:VEVENT
SUMMARY:Homophobie, Sexismus unter Männern und andere Heteroängste | Tagu
 ng und Netzwerktreffen
DTSTART:20131122T180000
DTEND:20131123T173000
UID:2026-04-21-10-26-32-0-@calendar.boell.de
DTSTAMP:20260421T082632
DESCRIPTION:Gunda-Werner-Institut für Feminismus und Geschlechterdemokrati
 e
END:VEVENT
END:VCALENDAR
