BEGIN:VCALENDAR
VERSION:2.0
PRODID:-//ZContent.net//ZapCalLib 1.0//EN
CALSCALE:GREGORIAN
METHOD:PUBLISH
BEGIN:VEVENT
SUMMARY:Post Colonial Sexual Identity and Orientation in Nigeria | Ringvorl
 esung Afrika: Identität der nächsten Generation
DTSTART:20131217T180000
DTEND:20131217T200000
UID:2026-04-21-12-12-34-0-@calendar.boell.de
DTSTAMP:20260421T101234
DESCRIPTION:
END:VEVENT
END:VCALENDAR
