BEGIN:VCALENDAR
VERSION:2.0
PRODID:-//ZContent.net//ZapCalLib 1.0//EN
CALSCALE:GREGORIAN
METHOD:PUBLISH
BEGIN:VEVENT
SUMMARY:Rassismus und antirassistischer Widerstand in Deutschland 1991 bis 
 2013 - Filme und Gespräch | Reihe: Her Stories. Präsentationen und Posit
 ionen gegen Rassismus
DTSTART:20140423T190000
DTEND:20140423T210000
UID:2026-04-19-19-17-55-0-@calendar.boell.de
DTSTAMP:20260419T171755
DESCRIPTION:▶ Siehe Veranstaltungsbeschreibung – Landesstiftung Berlin 
 (Bildungswerk)
END:VEVENT
END:VCALENDAR
