BEGIN:VCALENDAR
VERSION:2.0
PRODID:-//ZContent.net//ZapCalLib 1.0//EN
CALSCALE:GREGORIAN
METHOD:PUBLISH
BEGIN:VEVENT
SUMMARY: 	Wir könnten auch anders – Begegnungen jenseits des Wachstums |
  Filmnachmittag und anschließendes Gespräch mit Filmemacher Holger Lauin
 ger
DTSTART:20131113T130000
DTEND:20131113T150000
UID:2026-04-19-18-43-54-0-@calendar.boell.de
DTSTAMP:20260419T164354
DESCRIPTION:Landesstiftung Brandenburg
END:VEVENT
END:VCALENDAR
