BEGIN:VCALENDAR
VERSION:2.0
PRODID:-//ZContent.net//ZapCalLib 1.0//EN
CALSCALE:GREGORIAN
METHOD:PUBLISH
BEGIN:VEVENT
SUMMARY:Zwanzig Jahre Bemühungen um eine Lösung des Nahostkonflikts – d
 och wer vertritt die Palästinenser_innen?
DTSTART:20140311T190000
DTEND:20140311T213000
UID:2026-04-19-18-43-42-0-@calendar.boell.de
DTSTAMP:20260419T164342
DESCRIPTION:Landesstiftung Berlin (Bildungswerk)
END:VEVENT
END:VCALENDAR
