BEGIN:VCALENDAR
VERSION:2.0
PRODID:-//ZContent.net//ZapCalLib 1.0//EN
CALSCALE:GREGORIAN
METHOD:PUBLISH
BEGIN:VEVENT
SUMMARY:Zwischen Wüste und Meer: Kämpfe um Bewegungsfreiheit in Nordafrik
 a | Erfahrungsberichte
DTSTART:20140224T193000
DTEND:20140224T213000
UID:2026-04-19-19-17-56-0-@calendar.boell.de
DTSTAMP:20260419T171756
DESCRIPTION:Landesstiftung Berlin (Bildungswerk)
END:VEVENT
END:VCALENDAR
