BEGIN:VCALENDAR
VERSION:2.0
PRODID:-//ZContent.net//ZapCalLib 1.0//EN
CALSCALE:GREGORIAN
METHOD:PUBLISH
BEGIN:VEVENT
SUMMARY:Versteckspieler | Coming Out im Männerfußball - endlich kein Tabu
  mehr?!
DTSTART:20140402T190000
DTEND:20140402T210000
UID:2026-04-20-03-21-37-0-@calendar.boell.de
DTSTAMP:20260420T012137
DESCRIPTION:
END:VEVENT
END:VCALENDAR
