BEGIN:VCALENDAR
VERSION:2.0
PRODID:-//ZContent.net//ZapCalLib 1.0//EN
CALSCALE:GREGORIAN
METHOD:PUBLISH
BEGIN:VEVENT
SUMMARY:Deutsch-Israelische Literaturtage: Wunden und Wunder 
DTSTART:20140410T200000
DTEND:20140410T200000
UID:2026-04-21-13-57-18-0-@calendar.boell.de
DTSTAMP:20260421T115718
DESCRIPTION:
END:VEVENT
END:VCALENDAR
