BEGIN:VCALENDAR
VERSION:2.0
PRODID:-//ZContent.net//ZapCalLib 1.0//EN
CALSCALE:GREGORIAN
METHOD:PUBLISH
BEGIN:VEVENT
SUMMARY:SÃ¼dafrika nach der Wahl - Beginn einer neuen politischen Ã„ra?
DTSTART:20140519T183000
DTEND:20140519T203000
UID:2026-04-21-11-33-07-0-@calendar.boell.de
DTSTAMP:20260421T093307
DESCRIPTION:Heinrich-BÃ¶ll-Stiftung - Bundesstiftung Berlin â€“ Heinrich-BÃ
 ¶ll-Stiftung - Bundesstiftung Berlin
END:VEVENT
END:VCALENDAR
