BEGIN:VCALENDAR
VERSION:2.0
PRODID:-//ZContent.net//ZapCalLib 1.0//EN
CALSCALE:GREGORIAN
METHOD:PUBLISH
BEGIN:VEVENT
SUMMARY:1914 Zeitenwende - Künstler, Dichter und Denker im Ersten Weltkrie
 g (Lesung und Gespräch mit Dr. Steffen Bruendel) | Veranstaltungsort: Bur
 g Bodenstein, Burgstrasse 1, Bodenstein
DTSTART:20140527T190000
DTEND:20140527T210000
UID:2026-04-21-19-59-57-0-@calendar.boell.de
DTSTAMP:20260421T175957
DESCRIPTION:Landesstiftung Thüringen
END:VEVENT
END:VCALENDAR
