BEGIN:VCALENDAR
VERSION:2.0
PRODID:-//ZContent.net//ZapCalLib 1.0//EN
CALSCALE:GREGORIAN
METHOD:PUBLISH
BEGIN:VEVENT
SUMMARY:Verantwortung in der digitalen Gesellschaft | netz:regeln 2014
DTSTART:20141112T100000
DTEND:20141112T150000
UID:2026-04-24-21-47-04-0-@calendar.boell.de
DTSTAMP:20260424T194704
DESCRIPTION:Heinrich-BÃ¶ll-Stiftung - Bundesstiftung Berlin â€“ Heinrich-BÃ
 ¶ll-Stiftung - Bundesstiftung Berlin
END:VEVENT
END:VCALENDAR
