BEGIN:VCALENDAR
VERSION:2.0
PRODID:-//ZContent.net//ZapCalLib 1.0//EN
CALSCALE:GREGORIAN
METHOD:PUBLISH
BEGIN:VEVENT
SUMMARY:Universitäten - Botschafter für Nachhaltigkeit und Effizienz?
DTSTART:20140513T180000
DTEND:20140513T200000
UID:2026-04-19-19-17-56-0-@calendar.boell.de
DTSTAMP:20260419T171756
DESCRIPTION:▶ Siehe Veranstaltungsbeschreibung – Landesstiftung Nordrhe
 in-Westfalen
END:VEVENT
END:VCALENDAR
