BEGIN:VCALENDAR
VERSION:2.0
PRODID:-//ZContent.net//ZapCalLib 1.0//EN
CALSCALE:GREGORIAN
METHOD:PUBLISH
BEGIN:VEVENT
SUMMARY:Kurt Hiller und der Erste Weltkrieg | Vom Patrioten zum Pazifisten
DTSTART:20140617T180000
DTEND:20140617T210000
UID:2026-04-23-09-19-26-0-@calendar.boell.de
DTSTAMP:20260423T071926
DESCRIPTION:▶ Siehe Veranstaltungsbeschreibung – Landesstiftung Berlin 
 (Bildungswerk)
END:VEVENT
END:VCALENDAR
