BEGIN:VCALENDAR
VERSION:2.0
PRODID:-//ZContent.net//ZapCalLib 1.0//EN
CALSCALE:GREGORIAN
METHOD:PUBLISH
BEGIN:VEVENT
SUMMARY:Zukunftsfähigkeit - Stadt im Wandel | Podiumsgespräch im Rahmen d
 es 24-stündigen »Stadt für eine Nacht«-Festes in der Schiffbauergasse
DTSTART:20140712T220000
DTEND:20140712T220000
UID:2026-04-21-10-08-09-0-@calendar.boell.de
DTSTAMP:20260421T080809
DESCRIPTION:▶ Siehe Veranstaltungsbeschreibung – Landesstiftung Branden
 burg
END:VEVENT
END:VCALENDAR
