BEGIN:VCALENDAR
VERSION:2.0
PRODID:-//ZContent.net//ZapCalLib 1.0//EN
CALSCALE:GREGORIAN
METHOD:PUBLISH
BEGIN:VEVENT
SUMMARY:Ausstellung „Die Opfer des NSU und die Aufarbeitung der Verbreche
 n“  | Demokratieladen, Margarethenstr. 11, Kahla / Rathaus Kahla
DTSTART:20140710T190000
DTEND:20140710T190000
UID:2026-04-19-20-27-40-0-@calendar.boell.de
DTSTAMP:20260419T182740
DESCRIPTION:Landesstiftung Thüringen
END:VEVENT
END:VCALENDAR
