BEGIN:VCALENDAR
VERSION:2.0
PRODID:-//ZContent.net//ZapCalLib 1.0//EN
CALSCALE:GREGORIAN
METHOD:PUBLISH
BEGIN:VEVENT
SUMMARY:Re:fuge!  Zu:flucht! | Filmtage über Flucht und Migration
DTSTART:20141006T180000
DTEND:20141006T230000
UID:2026-04-21-17-12-12-0-@calendar.boell.de
DTSTAMP:20260421T151212
DESCRIPTION:▶ Siehe Veranstaltungsbeschreibung – Heinrich-Böll-Stiftun
 g - Bundesstiftung Berlin
END:VEVENT
BEGIN:VEVENT
SUMMARY:Re:fuge!  Zu:flucht! | Filmtage über Flucht und Migration
DTSTART:20141007T190000
DTEND:20141007T230000
UID:2026-04-21-15-12-12-1-@calendar.boell.de
DTSTAMP:20260421T151212
DESCRIPTION:▶ Siehe Veranstaltungsbeschreibung – Heinrich-Böll-Stiftun
 g - Bundesstiftung Berlin
END:VEVENT
BEGIN:VEVENT
SUMMARY:Re:fuge!  Zu:flucht! | Filmtage über Flucht und Migration
DTSTART:20141008T190000
DTEND:20141008T230000
UID:2026-04-21-15-12-12-2-@calendar.boell.de
DTSTAMP:20260421T151212
DESCRIPTION:▶ Siehe Veranstaltungsbeschreibung – Heinrich-Böll-Stiftun
 g - Bundesstiftung Berlin
END:VEVENT
END:VCALENDAR
