BEGIN:VCALENDAR
VERSION:2.0
PRODID:-//ZContent.net//ZapCalLib 1.0//EN
CALSCALE:GREGORIAN
METHOD:PUBLISH
BEGIN:VEVENT
SUMMARY:Marktwirtschaft 2.0 - eine andere Marktwirtschaft zwischen Staat un
 d Deregulierung (3505-14) | 3. Grüner Salon Mönchengladbach 
DTSTART:20140827T193000
DTEND:20140827T193000
UID:2026-04-20-15-41-43-0-@calendar.boell.de
DTSTAMP:20260420T134143
DESCRIPTION:▶ Siehe Veranstaltungsbeschreibung – Landesstiftung Nordrhe
 in-Westfalen
END:VEVENT
END:VCALENDAR
