BEGIN:VCALENDAR
VERSION:2.0
PRODID:-//ZContent.net//ZapCalLib 1.0//EN
CALSCALE:GREGORIAN
METHOD:PUBLISH
BEGIN:VEVENT
SUMMARY:Männerpolitik - Beiträge zur Gleichstellung der Geschlechter | In
 ternationale Tagung
DTSTART:20141006T123000
DTEND:20141007T210000
UID:2026-04-21-19-14-08-0-@calendar.boell.de
DTSTAMP:20260421T171408
DESCRIPTION:▶ Siehe Veranstaltungsbeschreibung – Externe Veranstaltung
END:VEVENT
END:VCALENDAR
