BEGIN:VCALENDAR
VERSION:2.0
PRODID:-//ZContent.net//ZapCalLib 1.0//EN
CALSCALE:GREGORIAN
METHOD:PUBLISH
BEGIN:VEVENT
SUMMARY:Meine Akte. DDR 1969 – 1975 | Autorenlesung mit Reiner David im R
 ahmen der Ausstellung „EINGESPERRT_AUSGESPERRT. Mensch sein heißt frei 
 sein.“ von Jani Pietsch, Marie Rolshoven und Florian Voß
DTSTART:20141025T190000
DTEND:20141025T210000
UID:2026-04-23-20-59-25-0-@calendar.boell.de
DTSTAMP:20260423T185925
DESCRIPTION:▶ Siehe Veranstaltungsbeschreibung – Landesstiftung Berlin 
 (Bildungswerk)
END:VEVENT
END:VCALENDAR
