BEGIN:VCALENDAR
VERSION:2.0
PRODID:-//ZContent.net//ZapCalLib 1.0//EN
CALSCALE:GREGORIAN
METHOD:PUBLISH
BEGIN:VEVENT
SUMMARY:Danny Michelsen: Gibt es eine „republikanische“ Perspektive auf
  zivilen Ungehorsam?
DTSTART:20150107T180000
DTEND:20150107T193000
UID:2026-04-19-19-17-55-0-@calendar.boell.de
DTSTAMP:20260419T171755
DESCRIPTION:▶ Siehe Veranstaltungsbeschreibung – Landesstiftung Sachsen
  (Weiterdenken)
END:VEVENT
END:VCALENDAR
