BEGIN:VCALENDAR
VERSION:2.0
PRODID:-//ZContent.net//ZapCalLib 1.0//EN
CALSCALE:GREGORIAN
METHOD:PUBLISH
BEGIN:VEVENT
SUMMARY:„Weil ein Aufschrei nicht reicht. Für einen Feminismus von heute
 “ | Lesung und Diskussion mit Anne Wizorek
DTSTART:20141030T190000
DTEND:20141030T213000
UID:2026-04-21-13-57-18-0-@calendar.boell.de
DTSTAMP:20260421T115718
DESCRIPTION:▶ Siehe Veranstaltungsbeschreibung – Landesstiftung Hamburg
END:VEVENT
END:VCALENDAR
