BEGIN:VCALENDAR
VERSION:2.0
PRODID:-//ZContent.net//ZapCalLib 1.0//EN
CALSCALE:GREGORIAN
METHOD:PUBLISH
BEGIN:VEVENT
SUMMARY:Ungern in Ungarn?
DTSTART:20140301T170000
DTEND:20140301T190000
UID:2026-04-23-01-06-55-0-@calendar.boell.de
DTSTAMP:20260422T230655
DESCRIPTION:▶ Siehe Veranstaltungsbeschreibung – Landesstiftung Sachsen
  (Weiterdenken)
END:VEVENT
END:VCALENDAR
