BEGIN:VCALENDAR
VERSION:2.0
PRODID:-//ZContent.net//ZapCalLib 1.0//EN
CALSCALE:GREGORIAN
METHOD:PUBLISH
BEGIN:VEVENT
SUMMARY:The only democracy – Zustand und Zukunft der israelischen Demokra
 tie
DTSTART:20140313T143000
DTEND:20140313T150000
UID:2026-04-20-22-57-14-0-@calendar.boell.de
DTSTAMP:20260420T205714
DESCRIPTION:▶ Siehe Veranstaltungsbeschreibung – Landesstiftung Sachsen
  (Weiterdenken)
END:VEVENT
END:VCALENDAR
