BEGIN:VCALENDAR
VERSION:2.0
PRODID:-//ZContent.net//ZapCalLib 1.0//EN
CALSCALE:GREGORIAN
METHOD:PUBLISH
BEGIN:VEVENT
SUMMARY:„DIE ASYL-MONOLOGE“ | Theater und Diskussion
DTSTART:20140516T190000
DTEND:20140516T213000
UID:2026-04-25-13-25-48-0-@calendar.boell.de
DTSTAMP:20260425T112548
DESCRIPTION:▶ Siehe Veranstaltungsbeschreibung – Landesstiftung Sachsen
  (Weiterdenken)
END:VEVENT
END:VCALENDAR
