BEGIN:VCALENDAR
VERSION:2.0
PRODID:-//ZContent.net//ZapCalLib 1.0//EN
CALSCALE:GREGORIAN
METHOD:PUBLISH
BEGIN:VEVENT
SUMMARY:Der Träger war immer schon vorher da | Die Geschichte des Antisemi
 tismus und des Widerstandes im Alpinismus - Lesung mit dem Autor Martin Kr
 auß
DTSTART:20140620T200000
DTEND:20140620T220000
UID:2026-04-22-07-47-27-0-@calendar.boell.de
DTSTAMP:20260422T054727
DESCRIPTION:▶ Siehe Veranstaltungsbeschreibung – Landesstiftung Sachsen
  (Weiterdenken)
END:VEVENT
END:VCALENDAR
